BEGIN:VCALENDAR
VERSION:2.0
PRODID:-//Treasure Coast AHEPA Chapter 479 - ECPv6.15.12.2//NONSGML v1.0//EN
CALSCALE:GREGORIAN
METHOD:PUBLISH
X-WR-CALNAME:Treasure Coast AHEPA Chapter 479
X-ORIGINAL-URL:https://ahepa479.com
X-WR-CALDESC:Events for Treasure Coast AHEPA Chapter 479
REFRESH-INTERVAL;VALUE=DURATION:PT1H
X-Robots-Tag:noindex
X-PUBLISHED-TTL:PT1H
BEGIN:VTIMEZONE
TZID:UTC
BEGIN:STANDARD
TZOFFSETFROM:+0000
TZOFFSETTO:+0000
TZNAME:UTC
DTSTART:20240101T000000
END:STANDARD
END:VTIMEZONE
BEGIN:VEVENT
DTSTART;TZID=UTC:20251102T123000
DTEND;TZID=UTC:20251102T143000
DTSTAMP:20260421T002025
CREATED:20251019T221856Z
LAST-MODIFIED:20251019T222629Z
UID:25365-1762086600-1762093800@ahepa479.com
SUMMARY:Chapter Meeting
DESCRIPTION:Immediately following the Divine Liturgy at the St John Chrysostom Greek Orthodox Church
URL:https://ahepa479.com/event/chapter-meeting-12/
CATEGORIES:Chapter Meeting
END:VEVENT
BEGIN:VEVENT
DTSTART;VALUE=DATE:20251111
DTEND;VALUE=DATE:20251112
DTSTAMP:20260421T002025
CREATED:20251019T222259Z
LAST-MODIFIED:20251019T222259Z
UID:25377-1762819200-1762905599@ahepa479.com
SUMMARY:Veterans Day
DESCRIPTION:
URL:https://ahepa479.com/event/veterans-day/
CATEGORIES:Holiday
END:VEVENT
BEGIN:VEVENT
DTSTART;VALUE=DATE:20251127
DTEND;VALUE=DATE:20251128
DTSTAMP:20260421T002025
CREATED:20251019T222401Z
LAST-MODIFIED:20251019T222401Z
UID:25379-1764201600-1764287999@ahepa479.com
SUMMARY:Thanksgiving Day
DESCRIPTION:
URL:https://ahepa479.com/event/thanksgiving-day/
CATEGORIES:Holiday
END:VEVENT
END:VCALENDAR