BEGIN:VCALENDAR
VERSION:2.0
PRODID:-//Treasure Coast AHEPA Chapter 479 - ECPv6.15.12.2//NONSGML v1.0//EN
CALSCALE:GREGORIAN
METHOD:PUBLISH
X-WR-CALNAME:Treasure Coast AHEPA Chapter 479
X-ORIGINAL-URL:https://ahepa479.com
X-WR-CALDESC:Events for Treasure Coast AHEPA Chapter 479
REFRESH-INTERVAL;VALUE=DURATION:PT1H
X-Robots-Tag:noindex
X-PUBLISHED-TTL:PT1H
BEGIN:VTIMEZONE
TZID:UTC
BEGIN:STANDARD
TZOFFSETFROM:+0000
TZOFFSETTO:+0000
TZNAME:UTC
DTSTART:20240101T000000
END:STANDARD
END:VTIMEZONE
BEGIN:VEVENT
DTSTART;VALUE=DATE:20250606
DTEND;VALUE=DATE:20250609
DTSTAMP:20260421T105233
CREATED:20250411T125813Z
LAST-MODIFIED:20251019T220751Z
UID:25336-1749168000-1749427199@ahepa479.com
SUMMARY:2025 AHEPA Family District 2 Convention
DESCRIPTION:2025 AHEPA Family District 2 ConventionHosted by Chapter #18 – West Palm BeachJune 6–8\, 2025
URL:https://ahepa479.com/event/2025-ahepa-family-district-2-convention/
CATEGORIES:Convention
END:VEVENT
END:VCALENDAR