BEGIN:VCALENDAR
VERSION:2.0
PRODID:-//Treasure Coast AHEPA Chapter 479 - ECPv6.15.12.2//NONSGML v1.0//EN
CALSCALE:GREGORIAN
METHOD:PUBLISH
X-WR-CALNAME:Treasure Coast AHEPA Chapter 479
X-ORIGINAL-URL:https://ahepa479.com
X-WR-CALDESC:Events for Treasure Coast AHEPA Chapter 479
REFRESH-INTERVAL;VALUE=DURATION:PT1H
X-Robots-Tag:noindex
X-PUBLISHED-TTL:PT1H
BEGIN:VTIMEZONE
TZID:UTC
BEGIN:STANDARD
TZOFFSETFROM:+0000
TZOFFSETTO:+0000
TZNAME:UTC
DTSTART:20250101T000000
END:STANDARD
END:VTIMEZONE
BEGIN:VEVENT
DTSTART;TZID=UTC:20260802T123000
DTEND;TZID=UTC:20260802T143000
DTSTAMP:20260421T030744
CREATED:20251019T223705Z
LAST-MODIFIED:20251019T223705Z
UID:25393-1785673800-1785681000@ahepa479.com
SUMMARY:Chapter Meeting
DESCRIPTION:Immediately following the Divine Liturgy at the St John Chrysostom Greek Orthodox Church
URL:https://ahepa479.com/event/chapter-meeting-9/
CATEGORIES:Chapter Meeting
END:VEVENT
BEGIN:VEVENT
DTSTART;TZID=UTC:20260906T123000
DTEND;TZID=UTC:20260906T143000
DTSTAMP:20260421T030744
CREATED:20251019T223736Z
LAST-MODIFIED:20251019T223736Z
UID:25395-1788697800-1788705000@ahepa479.com
SUMMARY:Chapter Meeting
DESCRIPTION:Immediately following the Divine Liturgy at the St John Chrysostom Greek Orthodox Church
URL:https://ahepa479.com/event/chapter-meeting-10/
CATEGORIES:Chapter Meeting
END:VEVENT
BEGIN:VEVENT
DTSTART;TZID=UTC:20261004T123000
DTEND;TZID=UTC:20261004T143000
DTSTAMP:20260421T030744
CREATED:20251019T223810Z
LAST-MODIFIED:20251019T223810Z
UID:25397-1791117000-1791124200@ahepa479.com
SUMMARY:Chapter Meeting
DESCRIPTION:Immediately following the Divine Liturgy at the St John Chrysostom Greek Orthodox Church
URL:https://ahepa479.com/event/chapter-meeting-15/
CATEGORIES:Chapter Meeting
END:VEVENT
BEGIN:VEVENT
DTSTART;TZID=UTC:20261101T123000
DTEND;TZID=UTC:20261101T143000
DTSTAMP:20260421T030744
CREATED:20251019T223847Z
LAST-MODIFIED:20251019T223847Z
UID:25399-1793536200-1793543400@ahepa479.com
SUMMARY:Chapter Meeting
DESCRIPTION:Immediately following the Divine Liturgy at the St John Chrysostom Greek Orthodox Church
URL:https://ahepa479.com/event/chapter-meeting-16/
CATEGORIES:Chapter Meeting
END:VEVENT
BEGIN:VEVENT
DTSTART;TZID=UTC:20261206T123000
DTEND;TZID=UTC:20261206T143000
DTSTAMP:20260421T030744
CREATED:20251019T223920Z
LAST-MODIFIED:20251019T223920Z
UID:25401-1796560200-1796567400@ahepa479.com
SUMMARY:Chapter Meeting
DESCRIPTION:Immediately following the Divine Liturgy at the St John Chrysostom Greek Orthodox Church
URL:https://ahepa479.com/event/chapter-meeting-17/
CATEGORIES:Chapter Meeting
END:VEVENT
END:VCALENDAR