BEGIN:VCALENDAR
VERSION:2.0
PRODID:-//Treasure Coast AHEPA Chapter 479 - ECPv6.15.12.2//NONSGML v1.0//EN
CALSCALE:GREGORIAN
METHOD:PUBLISH
X-WR-CALNAME:Treasure Coast AHEPA Chapter 479
X-ORIGINAL-URL:https://ahepa479.com
X-WR-CALDESC:Events for Treasure Coast AHEPA Chapter 479
REFRESH-INTERVAL;VALUE=DURATION:PT1H
X-Robots-Tag:noindex
X-PUBLISHED-TTL:PT1H
BEGIN:VTIMEZONE
TZID:UTC
BEGIN:STANDARD
TZOFFSETFROM:+0000
TZOFFSETTO:+0000
TZNAME:UTC
DTSTART:20240101T000000
END:STANDARD
END:VTIMEZONE
BEGIN:VEVENT
DTSTART;TZID=UTC:20260201T123000
DTEND;TZID=UTC:20260201T143000
DTSTAMP:20260421T030729
CREATED:20251019T223342Z
LAST-MODIFIED:20251019T223342Z
UID:25383-1769949000-1769956200@ahepa479.com
SUMMARY:Chapter Meeting
DESCRIPTION:Immediately following the Divine Liturgy at the St John Chrysostom Greek Orthodox Church
URL:https://ahepa479.com/event/chapter-meeting-4/
CATEGORIES:Chapter Meeting
END:VEVENT
BEGIN:VEVENT
DTSTART;VALUE=DATE:20260106
DTEND;VALUE=DATE:20260107
DTSTAMP:20260421T030729
CREATED:20251019T222033Z
LAST-MODIFIED:20251019T222033Z
UID:25371-1767657600-1767743999@ahepa479.com
SUMMARY:Epiphany
DESCRIPTION:
URL:https://ahepa479.com/event/epiphany/
CATEGORIES:Religious Holiday
END:VEVENT
BEGIN:VEVENT
DTSTART;TZID=UTC:20260104T123000
DTEND;TZID=UTC:20260104T143000
DTSTAMP:20260421T030729
CREATED:20251019T221949Z
LAST-MODIFIED:20251019T222720Z
UID:25369-1767529800-1767537000@ahepa479.com
SUMMARY:Chapter Meeting
DESCRIPTION:Immediately following the Divine Liturgy at the St John Chrysostom Greek Orthodox Church
URL:https://ahepa479.com/event/chapter-meeting-14/
CATEGORIES:Chapter Meeting
END:VEVENT
BEGIN:VEVENT
DTSTART;VALUE=DATE:20260101
DTEND;VALUE=DATE:20260102
DTSTAMP:20260421T030729
CREATED:20251019T222129Z
LAST-MODIFIED:20251019T222129Z
UID:25373-1767225600-1767311999@ahepa479.com
SUMMARY:New Year's Day
DESCRIPTION:
URL:https://ahepa479.com/event/new-years-day/
CATEGORIES:Holiday
END:VEVENT
BEGIN:VEVENT
DTSTART;VALUE=DATE:20251225
DTEND;VALUE=DATE:20251226
DTSTAMP:20260421T030729
CREATED:20251019T222442Z
LAST-MODIFIED:20251019T222442Z
UID:25381-1766620800-1766707199@ahepa479.com
SUMMARY:Christmas Day
DESCRIPTION:
URL:https://ahepa479.com/event/christmas-day/
CATEGORIES:Religious Holiday
END:VEVENT
BEGIN:VEVENT
DTSTART;TZID=UTC:20251207T123000
DTEND;TZID=UTC:20251207T143000
DTSTAMP:20260421T030729
CREATED:20251019T221920Z
LAST-MODIFIED:20251019T222537Z
UID:25367-1765110600-1765117800@ahepa479.com
SUMMARY:Chapter Meeting
DESCRIPTION:Immediately following the Divine Liturgy at the St John Chrysostom Greek Orthodox Church
URL:https://ahepa479.com/event/chapter-meeting-13/
CATEGORIES:Chapter Meeting
END:VEVENT
BEGIN:VEVENT
DTSTART;VALUE=DATE:20251127
DTEND;VALUE=DATE:20251128
DTSTAMP:20260421T030729
CREATED:20251019T222401Z
LAST-MODIFIED:20251019T222401Z
UID:25379-1764201600-1764287999@ahepa479.com
SUMMARY:Thanksgiving Day
DESCRIPTION:
URL:https://ahepa479.com/event/thanksgiving-day/
CATEGORIES:Holiday
END:VEVENT
BEGIN:VEVENT
DTSTART;VALUE=DATE:20251111
DTEND;VALUE=DATE:20251112
DTSTAMP:20260421T030729
CREATED:20251019T222259Z
LAST-MODIFIED:20251019T222259Z
UID:25377-1762819200-1762905599@ahepa479.com
SUMMARY:Veterans Day
DESCRIPTION:
URL:https://ahepa479.com/event/veterans-day/
CATEGORIES:Holiday
END:VEVENT
BEGIN:VEVENT
DTSTART;TZID=UTC:20251102T123000
DTEND;TZID=UTC:20251102T143000
DTSTAMP:20260421T030729
CREATED:20251019T221856Z
LAST-MODIFIED:20251019T222629Z
UID:25365-1762086600-1762093800@ahepa479.com
SUMMARY:Chapter Meeting
DESCRIPTION:Immediately following the Divine Liturgy at the St John Chrysostom Greek Orthodox Church
URL:https://ahepa479.com/event/chapter-meeting-12/
CATEGORIES:Chapter Meeting
END:VEVENT
BEGIN:VEVENT
DTSTART;VALUE=DATE:20251028
DTEND;VALUE=DATE:20251029
DTSTAMP:20260421T030729
CREATED:20251019T222208Z
LAST-MODIFIED:20251019T222208Z
UID:25375-1761609600-1761695999@ahepa479.com
SUMMARY:OXI Day
DESCRIPTION:
URL:https://ahepa479.com/event/oxi-day/
CATEGORIES:Holiday
END:VEVENT
BEGIN:VEVENT
DTSTART;TZID=UTC:20251005T123000
DTEND;TZID=UTC:20251005T143000
DTSTAMP:20260421T030729
CREATED:20251019T221831Z
LAST-MODIFIED:20251019T222803Z
UID:25363-1759667400-1759674600@ahepa479.com
SUMMARY:Chapter Meeting
DESCRIPTION:Immediately following the Divine Liturgy at the St John Chrysostom Greek Orthodox Church
URL:https://ahepa479.com/event/chapter-meeting-11/
CATEGORIES:Chapter Meeting
END:VEVENT
BEGIN:VEVENT
DTSTART;TZID=UTC:20250907T123000
DTEND;TZID=UTC:20250907T143000
DTSTAMP:20260421T030729
CREATED:20231127T170950Z
LAST-MODIFIED:20251019T223017Z
UID:25253-1757248200-1757255400@ahepa479.com
SUMMARY:Chapter Meeting
DESCRIPTION:Place and time are TBD
URL:https://ahepa479.com/event/chapter-meeting-3/
CATEGORIES:Chapter Meeting
END:VEVENT
BEGIN:VEVENT
DTSTART;TZID=UTC:20250803T123000
DTEND;TZID=UTC:20250803T143000
DTSTAMP:20260421T030729
CREATED:20231127T170914Z
LAST-MODIFIED:20251019T223124Z
UID:25251-1754224200-1754231400@ahepa479.com
SUMMARY:Chapter Meeting
DESCRIPTION:Place and time are TBD
URL:https://ahepa479.com/event/chapter-meeting-2/
CATEGORIES:Chapter Meeting
END:VEVENT
BEGIN:VEVENT
DTSTART;VALUE=DATE:20250721
DTEND;VALUE=DATE:20250727
DTSTAMP:20260421T030729
CREATED:20250411T135430Z
LAST-MODIFIED:20251019T220756Z
UID:25338-1753056000-1753574399@ahepa479.com
SUMMARY:103rd Supreme Convention
DESCRIPTION:103rd Supreme Convention. At the Walt Disney World Coronado Springs Resort. Click HERE to register.
URL:https://ahepa479.com/event/103rd-supreme-convention/
CATEGORIES:Convention
END:VEVENT
BEGIN:VEVENT
DTSTART;TZID=UTC:20250706T090000
DTEND;TZID=UTC:20250706T100000
DTSTAMP:20260421T030729
CREATED:20231127T170843Z
LAST-MODIFIED:20251019T223203Z
UID:25249-1751792400-1751796000@ahepa479.com
SUMMARY:Chapter Meeting
DESCRIPTION:Place and time are TBD
URL:https://ahepa479.com/event/chapter-meeting/
CATEGORIES:Chapter Meeting
END:VEVENT
BEGIN:VEVENT
DTSTART;VALUE=DATE:20250606
DTEND;VALUE=DATE:20250609
DTSTAMP:20260421T030729
CREATED:20250411T125813Z
LAST-MODIFIED:20251019T220751Z
UID:25336-1749168000-1749427199@ahepa479.com
SUMMARY:2025 AHEPA Family District 2 Convention
DESCRIPTION:2025 AHEPA Family District 2 ConventionHosted by Chapter #18 – West Palm BeachJune 6–8\, 2025
URL:https://ahepa479.com/event/2025-ahepa-family-district-2-convention/
CATEGORIES:Convention
END:VEVENT
END:VCALENDAR