BEGIN:VCALENDAR
VERSION:2.0
PRODID:-//Treasure Coast AHEPA Chapter 479 - ECPv6.15.12.2//NONSGML v1.0//EN
CALSCALE:GREGORIAN
METHOD:PUBLISH
X-ORIGINAL-URL:https://ahepa479.com
X-WR-CALDESC:Events for Treasure Coast AHEPA Chapter 479
REFRESH-INTERVAL;VALUE=DURATION:PT1H
X-Robots-Tag:noindex
X-PUBLISHED-TTL:PT1H
BEGIN:VTIMEZONE
TZID:UTC
BEGIN:STANDARD
TZOFFSETFROM:+0000
TZOFFSETTO:+0000
TZNAME:UTC
DTSTART:20250101T000000
END:STANDARD
END:VTIMEZONE
BEGIN:VEVENT
DTSTART;VALUE=DATE:20260412
DTEND;VALUE=DATE:20260413
DTSTAMP:20260420T185401
CREATED:20251019T221116Z
LAST-MODIFIED:20251019T221141Z
UID:25349-1775952000-1776038399@ahepa479.com
SUMMARY:Pascha
DESCRIPTION:
URL:https://ahepa479.com/event/pascha/
CATEGORIES:Religious Holiday
END:VEVENT
END:VCALENDAR