BEGIN:VCALENDAR
VERSION:2.0
PRODID:-//Treasure Coast AHEPA Chapter 479 - ECPv6.15.12.2//NONSGML v1.0//EN
CALSCALE:GREGORIAN
METHOD:PUBLISH
X-WR-CALNAME:Treasure Coast AHEPA Chapter 479
X-ORIGINAL-URL:https://ahepa479.com
X-WR-CALDESC:Events for Treasure Coast AHEPA Chapter 479
REFRESH-INTERVAL;VALUE=DURATION:PT1H
X-Robots-Tag:noindex
X-PUBLISHED-TTL:PT1H
BEGIN:VTIMEZONE
TZID:UTC
BEGIN:STANDARD
TZOFFSETFROM:+0000
TZOFFSETTO:+0000
TZNAME:UTC
DTSTART:20250101T000000
END:STANDARD
END:VTIMEZONE
BEGIN:VEVENT
DTSTART;VALUE=DATE:20260106
DTEND;VALUE=DATE:20260107
DTSTAMP:20260420T225955
CREATED:20251019T222033Z
LAST-MODIFIED:20251019T222033Z
UID:25371-1767657600-1767743999@ahepa479.com
SUMMARY:Epiphany
DESCRIPTION:
URL:https://ahepa479.com/event/epiphany/
CATEGORIES:Religious Holiday
END:VEVENT
END:VCALENDAR